Package: standR Version: 1.10.0 Command: rm -rf standR.buildbin-libdir && mkdir standR.buildbin-libdir && /Users/biocbuild/BBS/utils/build-universal.sh standR_1.10.0.tar.gz /Library/Frameworks/R.framework/Resources/bin/R standR.buildbin-libdir StartedAt: 2025-02-01 17:05:25 -0500 (Sat, 01 Feb 2025) EndedAt: 2025-02-01 17:05:57 -0500 (Sat, 01 Feb 2025) EllapsedTime: 31.9 seconds RetCode: 0 Status: OK PackageFile: standR_1.10.0.tgz PackageFileSize: 3.116 MiB