Package: standR Version: 1.10.0 Command: /Library/Frameworks/R.framework/Resources/bin/R CMD build --keep-empty-dirs --no-resave-data standR StartedAt: 2025-01-31 08:59:23 -0500 (Fri, 31 Jan 2025) EndedAt: 2025-01-31 09:01:19 -0500 (Fri, 31 Jan 2025) EllapsedTime: 116.3 seconds RetCode: 0 Status: OK PackageFile: standR_1.10.0.tar.gz PackageFileSize: 3.009 MiB