Package: standR Version: 1.10.0 Command: /Library/Frameworks/R.framework/Resources/bin/R CMD build --keep-empty-dirs --no-resave-data standR StartedAt: 2025-01-30 23:14:24 -0500 (Thu, 30 Jan 2025) EndedAt: 2025-01-30 23:17:29 -0500 (Thu, 30 Jan 2025) EllapsedTime: 184.9 seconds RetCode: 0 Status: OK PackageFile: standR_1.10.0.tar.gz PackageFileSize: 2.982 MiB