Package: standR Version: 1.10.0 Command: /home/biocbuild/bbs-3.20-bioc/R/bin/R CMD INSTALL standR StartedAt: 2025-02-03 15:40:32 -0500 (Mon, 03 Feb 2025) EndedAt: 2025-02-03 15:40:56 -0500 (Mon, 03 Feb 2025) EllapsedTime: 24.9 seconds RetCode: 0 Status: OK