Package: standR Version: 1.10.0 Command: rm -rf standR.buildbin-libdir && mkdir standR.buildbin-libdir && F:\biocbuild\bbs-3.20-bioc\R\bin\R.exe CMD INSTALL --build --library=standR.buildbin-libdir standR_1.10.0.tar.gz StartedAt: 2025-01-31 09:43:50 -0500 (Fri, 31 Jan 2025) EndedAt: 2025-01-31 09:44:32 -0500 (Fri, 31 Jan 2025) EllapsedTime: 41.2 seconds RetCode: 0 Status: OK PackageFile: standR_1.10.0.zip PackageFileSize: 2.111 MiB