Package: standR Version: 1.10.0 Command: chmod a+r standR -R && F:\biocbuild\bbs-3.20-bioc\R\bin\R.exe CMD build --keep-empty-dirs --no-resave-data standR StartedAt: 2025-01-30 22:09:09 -0500 (Thu, 30 Jan 2025) EndedAt: 2025-01-30 22:11:09 -0500 (Thu, 30 Jan 2025) EllapsedTime: 120.7 seconds RetCode: 0 Status: OK PackageFile: standR_1.10.0.tar.gz PackageFileSize: 2.002 MiB