Package: standR Version: 1.10.0 Command: F:\biocbuild\bbs-3.20-bioc\R\bin\R.exe CMD check --no-multiarch --install=check:standR.install-out.txt --library=F:\biocbuild\bbs-3.20-bioc\R\library --no-vignettes --timings standR_1.10.0.tar.gz StartedAt: 2025-01-31 06:57:40 -0500 (Fri, 31 Jan 2025) EndedAt: 2025-01-31 07:03:41 -0500 (Fri, 31 Jan 2025) EllapsedTime: 361.2 seconds RetCode: 0 Status: OK CheckDir: standR.Rcheck Warnings: 0