Package: statTarget Version: 1.36.0 Command: /Library/Frameworks/R.framework/Resources/bin/R CMD build --keep-empty-dirs --no-resave-data statTarget StartedAt: 2025-02-04 09:15:24 -0500 (Tue, 04 Feb 2025) EndedAt: 2025-02-04 09:15:37 -0500 (Tue, 04 Feb 2025) EllapsedTime: 13.7 seconds RetCode: 0 Status: OK PackageFile: statTarget_1.36.0.tar.gz PackageFileSize: 779.1 KiB