Package: statTarget Version: 1.36.0 Command: rm -rf statTarget.buildbin-libdir && mkdir statTarget.buildbin-libdir && /Users/biocbuild/BBS/utils/build-universal.sh statTarget_1.36.0.tar.gz /Library/Frameworks/R.framework/Resources/bin/R statTarget.buildbin-libdir StartedAt: 2025-01-31 13:48:16 -0500 (Fri, 31 Jan 2025) EndedAt: 2025-01-31 13:48:33 -0500 (Fri, 31 Jan 2025) EllapsedTime: 16.8 seconds RetCode: 0 Status: OK PackageFile: statTarget_1.36.0.tgz PackageFileSize: 973.4 KiB