Package: statTarget Version: 1.36.0 Command: /Library/Frameworks/R.framework/Resources/bin/R CMD build --keep-empty-dirs --no-resave-data statTarget StartedAt: 2025-02-03 22:42:56 -0500 (Mon, 03 Feb 2025) EndedAt: 2025-02-03 22:43:20 -0500 (Mon, 03 Feb 2025) EllapsedTime: 24.2 seconds RetCode: 0 Status: OK PackageFile: statTarget_1.36.0.tar.gz PackageFileSize: 779.1 KiB