Package: statTarget Version: 1.36.0 Command: /Library/Frameworks/R.framework/Resources/bin/R CMD INSTALL statTarget StartedAt: 2025-02-03 15:18:25 -0500 (Mon, 03 Feb 2025) EndedAt: 2025-02-03 15:18:57 -0500 (Mon, 03 Feb 2025) EllapsedTime: 31.3 seconds RetCode: 0 Status: OK