Package: statTarget Version: 1.36.0 Command: /home/biocbuild/bbs-3.20-bioc/R/bin/R CMD INSTALL statTarget StartedAt: 2025-02-03 15:17:36 -0500 (Mon, 03 Feb 2025) EndedAt: 2025-02-03 15:17:55 -0500 (Mon, 03 Feb 2025) EllapsedTime: 19.0 seconds RetCode: 0 Status: OK