Package: statTarget Version: 1.36.0 Command: /home/biocbuild/R/R/bin/R CMD build --keep-empty-dirs --no-resave-data statTarget StartedAt: 2025-02-04 03:20:21 -0000 (Tue, 04 Feb 2025) EndedAt: 2025-02-04 03:20:39 -0000 (Tue, 04 Feb 2025) EllapsedTime: 18.0 seconds RetCode: 0 Status: OK PackageFile: statTarget_1.36.0.tar.gz PackageFileSize: 852 KiB