Package: struct Version: 1.18.0 Command: /home/biocbuild/R/R/bin/R CMD INSTALL struct StartedAt: 2025-02-10 20:18:11 -0000 (Mon, 10 Feb 2025) EndedAt: 2025-02-10 20:18:44 -0000 (Mon, 10 Feb 2025) EllapsedTime: 33.0 seconds RetCode: 0 Status: OK