Package: structToolbox Version: 1.18.1 Maintainer: Gavin Rhys Lloyd MaintainerEmail: g.r.lloyd at bham.ac.uk git_url: https://git.bioconductor.org/packages/structToolbox git_branch: RELEASE_3_20 git_last_commit: 13f7a1e git_last_commit_date: 2025-01-28 04:47:09 -0500 (Tue, 28 Jan 2025)