Package: structToolbox Version: 1.18.0 Command: /home/biocbuild/R/R/bin/R CMD INSTALL structToolbox StartedAt: 2024-11-19 20:38:29 -0000 (Tue, 19 Nov 2024) EndedAt: 2024-11-19 20:39:20 -0000 (Tue, 19 Nov 2024) EllapsedTime: 51.2 seconds RetCode: 0 Status: OK