Package: structToolbox Version: 1.18.1 Command: /home/biocbuild/bbs-3.20-bioc/R/bin/R CMD check --install=check:structToolbox.install-out.txt --library=/home/biocbuild/bbs-3.20-bioc/R/site-library --timings structToolbox_1.18.1.tar.gz StartedAt: 2025-02-04 02:59:13 -0500 (Tue, 04 Feb 2025) EndedAt: 2025-02-04 03:16:37 -0500 (Tue, 04 Feb 2025) EllapsedTime: 1044.2 seconds RetCode: 0 Status: OK CheckDir: structToolbox.Rcheck Warnings: 0