Package: structToolbox Version: 1.18.1 Command: /home/biocbuild/bbs-3.20-bioc/R/bin/R CMD INSTALL structToolbox StartedAt: 2025-02-03 15:21:28 -0500 (Mon, 03 Feb 2025) EndedAt: 2025-02-03 15:22:00 -0500 (Mon, 03 Feb 2025) EllapsedTime: 32.8 seconds RetCode: 0 Status: OK