Package: structToolbox Version: 1.18.1 Command: rm -rf structToolbox.buildbin-libdir && mkdir structToolbox.buildbin-libdir && F:\biocbuild\bbs-3.20-bioc\R\bin\R.exe CMD INSTALL --build --library=structToolbox.buildbin-libdir structToolbox_1.18.1.tar.gz StartedAt: 2025-01-31 09:44:17 -0500 (Fri, 31 Jan 2025) EndedAt: 2025-01-31 09:46:45 -0500 (Fri, 31 Jan 2025) EllapsedTime: 148.8 seconds RetCode: 0 Status: OK PackageFile: structToolbox_1.18.1.zip PackageFileSize: 4.107 MiB