Package: structToolbox Version: 1.18.1 Command: F:\biocbuild\bbs-3.20-bioc\R\bin\R.exe CMD INSTALL structToolbox StartedAt: 2025-01-30 15:58:04 -0500 (Thu, 30 Jan 2025) EndedAt: 2025-01-30 15:59:51 -0500 (Thu, 30 Jan 2025) EllapsedTime: 107.5 seconds RetCode: 0 Status: OK