Package: structToolbox Version: 1.18.1 Command: /home/biocbuild/R/R/bin/R CMD build --keep-empty-dirs --no-resave-data structToolbox StartedAt: 2025-01-31 03:02:09 -0000 (Fri, 31 Jan 2025) EndedAt: 2025-01-31 03:18:14 -0000 (Fri, 31 Jan 2025) EllapsedTime: 964.7 seconds RetCode: 0 Status: OK PackageFile: structToolbox_1.18.1.tar.gz PackageFileSize: 3.774 MiB