Package: structToolbox Version: 1.18.1 Command: /home/biocbuild/R/R/bin/R CMD INSTALL structToolbox StartedAt: 2025-01-30 20:16:44 -0000 (Thu, 30 Jan 2025) EndedAt: 2025-01-30 20:17:28 -0000 (Thu, 30 Jan 2025) EllapsedTime: 43.7 seconds RetCode: 0 Status: OK