Package: supersigs Version: 1.14.0 Command: /Library/Frameworks/R.framework/Resources/bin/R CMD build --keep-empty-dirs --no-resave-data supersigs StartedAt: 2025-02-04 09:24:39 -0500 (Tue, 04 Feb 2025) EndedAt: 2025-02-04 09:25:57 -0500 (Tue, 04 Feb 2025) EllapsedTime: 78.6 seconds RetCode: 0 Status: OK PackageFile: supersigs_1.14.0.tar.gz PackageFileSize: 2.597 MiB