Package: supersigs Version: 1.14.0 Command: /Library/Frameworks/R.framework/Resources/bin/R CMD build --keep-empty-dirs --no-resave-data supersigs StartedAt: 2025-02-03 22:46:03 -0500 (Mon, 03 Feb 2025) EndedAt: 2025-02-03 22:48:31 -0500 (Mon, 03 Feb 2025) EllapsedTime: 147.9 seconds RetCode: 0 Status: OK PackageFile: supersigs_1.14.0.tar.gz PackageFileSize: 2.597 MiB