Package: supersigs Version: 1.14.0 Command: /Library/Frameworks/R.framework/Resources/bin/R CMD INSTALL supersigs StartedAt: 2025-02-03 16:31:55 -0500 (Mon, 03 Feb 2025) EndedAt: 2025-02-03 16:33:02 -0500 (Mon, 03 Feb 2025) EllapsedTime: 67.6 seconds RetCode: 0 Status: OK