Package: supersigs Version: 1.14.0 Command: rm -rf supersigs.buildbin-libdir && mkdir supersigs.buildbin-libdir && F:\biocbuild\bbs-3.20-bioc\R\bin\R.exe CMD INSTALL --build --library=supersigs.buildbin-libdir supersigs_1.14.0.tar.gz StartedAt: 2025-02-04 09:37:55 -0500 (Tue, 04 Feb 2025) EndedAt: 2025-02-04 09:38:57 -0500 (Tue, 04 Feb 2025) EllapsedTime: 61.5 seconds RetCode: 0 Status: OK PackageFile: supersigs_1.14.0.zip PackageFileSize: 5.406 MiB