Package: supersigs Version: 1.14.0 Command: chmod a+r supersigs -R && F:\biocbuild\bbs-3.20-bioc\R\bin\R.exe CMD build --keep-empty-dirs --no-resave-data supersigs StartedAt: 2025-01-30 22:11:40 -0500 (Thu, 30 Jan 2025) EndedAt: 2025-01-30 22:13:07 -0500 (Thu, 30 Jan 2025) EllapsedTime: 86.9 seconds RetCode: 0 Status: OK PackageFile: supersigs_1.14.0.tar.gz PackageFileSize: 2.586 MiB