Package: supersigs Version: 1.14.0 Command: F:\biocbuild\bbs-3.20-bioc\R\bin\R.exe CMD INSTALL supersigs StartedAt: 2025-02-03 17:03:08 -0500 (Mon, 03 Feb 2025) EndedAt: 2025-02-03 17:04:00 -0500 (Mon, 03 Feb 2025) EllapsedTime: 52.2 seconds RetCode: 0 Status: OK