Package: supersigs Version: 1.14.0 Command: /home/biocbuild/R/R/bin/R CMD build --keep-empty-dirs --no-resave-data supersigs StartedAt: 2025-01-31 03:03:54 -0000 (Fri, 31 Jan 2025) EndedAt: 2025-01-31 03:05:17 -0000 (Fri, 31 Jan 2025) EllapsedTime: 83.1 seconds RetCode: 0 Status: OK PackageFile: supersigs_1.14.0.tar.gz PackageFileSize: 2.589 MiB