Package: supersigs Version: 1.14.0 Command: /home/biocbuild/R/R/bin/R CMD INSTALL supersigs StartedAt: 2025-02-03 21:13:23 -0000 (Mon, 03 Feb 2025) EndedAt: 2025-02-03 21:14:03 -0000 (Mon, 03 Feb 2025) EllapsedTime: 40.1 seconds RetCode: 0 Status: OK