Package: surfaltr Version: 1.12.0 Command: rm -rf surfaltr.buildbin-libdir && mkdir surfaltr.buildbin-libdir && /Users/biocbuild/BBS/utils/build-universal.sh surfaltr_1.12.0.tar.gz /Library/Frameworks/R.framework/Resources/bin/R surfaltr.buildbin-libdir StartedAt: 2025-02-01 17:06:58 -0500 (Sat, 01 Feb 2025) EndedAt: 2025-02-01 17:07:20 -0500 (Sat, 01 Feb 2025) EllapsedTime: 21.8 seconds RetCode: 0 Status: OK PackageFile: surfaltr_1.12.0.tgz PackageFileSize: 1.843 MiB