Package: surfaltr Version: 1.12.0 Command: /Library/Frameworks/R.framework/Resources/bin/R CMD build --keep-empty-dirs --no-resave-data surfaltr StartedAt: 2025-02-04 09:25:29 -0500 (Tue, 04 Feb 2025) EndedAt: 2025-02-04 09:26:03 -0500 (Tue, 04 Feb 2025) EllapsedTime: 34.3 seconds RetCode: 0 Status: OK PackageFile: surfaltr_1.12.0.tar.gz PackageFileSize: 3.052 MiB