Package: surfaltr Version: 1.12.0 Command: /Library/Frameworks/R.framework/Resources/bin/R CMD INSTALL surfaltr StartedAt: 2025-02-03 16:59:45 -0500 (Mon, 03 Feb 2025) EndedAt: 2025-02-03 17:00:05 -0500 (Mon, 03 Feb 2025) EllapsedTime: 19.7 seconds RetCode: 0 Status: OK