Package: surfaltr Version: 1.12.0 Command: /Library/Frameworks/R.framework/Resources/bin/R CMD check --install=check:surfaltr.install-out.txt --library=/Library/Frameworks/R.framework/Resources/library --no-vignettes --timings surfaltr_1.12.0.tar.gz StartedAt: 2025-02-04 10:58:56 -0500 (Tue, 04 Feb 2025) EndedAt: 2025-02-04 11:03:17 -0500 (Tue, 04 Feb 2025) EllapsedTime: 261.1 seconds RetCode: 0 Status: OK CheckDir: surfaltr.Rcheck Warnings: 0