Package: surfaltr Version: 1.12.0 Command: /home/biocbuild/bbs-3.20-bioc/R/bin/R CMD check --install=check:surfaltr.install-out.txt --library=/home/biocbuild/bbs-3.20-bioc/R/site-library --timings surfaltr_1.12.0.tar.gz StartedAt: 2025-01-31 02:51:10 -0500 (Fri, 31 Jan 2025) EndedAt: 2025-01-31 02:53:06 -0500 (Fri, 31 Jan 2025) EllapsedTime: 116.1 seconds RetCode: 0 Status: OK CheckDir: surfaltr.Rcheck Warnings: 0