Package: surfaltr Version: 1.12.0 Command: /home/biocbuild/bbs-3.20-bioc/R/bin/R CMD INSTALL surfaltr StartedAt: 2025-01-30 15:39:22 -0500 (Thu, 30 Jan 2025) EndedAt: 2025-01-30 15:39:42 -0500 (Thu, 30 Jan 2025) EllapsedTime: 20.2 seconds RetCode: 0 Status: OK