Package: surfaltr Version: 1.12.0 Command: /home/biocbuild/R/R/bin/R CMD INSTALL surfaltr StartedAt: 2025-02-03 21:02:01 -0000 (Mon, 03 Feb 2025) EndedAt: 2025-02-03 21:02:23 -0000 (Mon, 03 Feb 2025) EllapsedTime: 21.4 seconds RetCode: 0 Status: OK