Package: sva Version: 3.54.0 Command: /home/biocbuild/R/R/bin/R CMD check --install=check:sva.install-out.txt --library=/home/biocbuild/R/R/site-library --no-vignettes --timings sva_3.54.0.tar.gz StartedAt: 2025-02-04 11:33:04 -0000 (Tue, 04 Feb 2025) EndedAt: 2025-02-04 11:37:11 -0000 (Tue, 04 Feb 2025) EllapsedTime: 247.4 seconds RetCode: 0 Status: OK CheckDir: sva.Rcheck Warnings: 0