Package: svaNUMT Version: 1.12.0 Command: rm -rf svaNUMT.buildbin-libdir && mkdir svaNUMT.buildbin-libdir && /Users/biocbuild/BBS/utils/build-universal.sh svaNUMT_1.12.0.tar.gz /Library/Frameworks/R.framework/Resources/bin/R svaNUMT.buildbin-libdir StartedAt: 2025-02-12 17:16:17 -0500 (Wed, 12 Feb 2025) EndedAt: 2025-02-12 17:17:08 -0500 (Wed, 12 Feb 2025) EllapsedTime: 51.0 seconds RetCode: 0 Status: OK PackageFile: svaNUMT_1.12.0.tgz PackageFileSize: 754 KiB