Package: svaNUMT Version: 1.12.0 Command: /Library/Frameworks/R.framework/Resources/bin/R CMD build --keep-empty-dirs --no-resave-data svaNUMT StartedAt: 2025-02-04 09:27:17 -0500 (Tue, 04 Feb 2025) EndedAt: 2025-02-04 09:28:52 -0500 (Tue, 04 Feb 2025) EllapsedTime: 95.1 seconds RetCode: 0 Status: OK PackageFile: svaNUMT_1.12.0.tar.gz PackageFileSize: 818.3 KiB