Package: svaNUMT Version: 1.12.0 Command: /Library/Frameworks/R.framework/Resources/bin/R CMD INSTALL svaNUMT StartedAt: 2025-02-03 16:01:05 -0500 (Mon, 03 Feb 2025) EndedAt: 2025-02-03 16:01:51 -0500 (Mon, 03 Feb 2025) EllapsedTime: 45.6 seconds RetCode: 0 Status: OK