Package: svaNUMT Version: 1.12.0 Command: /home/biocbuild/R/R/bin/R CMD check --install=check:svaNUMT.install-out.txt --library=/home/biocbuild/R/R/site-library --no-vignettes --timings svaNUMT_1.12.0.tar.gz StartedAt: 2024-11-20 13:04:29 -0000 (Wed, 20 Nov 2024) EndedAt: 2024-11-20 13:11:10 -0000 (Wed, 20 Nov 2024) EllapsedTime: 400.8 seconds RetCode: 0 Status: OK CheckDir: svaNUMT.Rcheck Warnings: 0