Package: svaNUMT Version: 1.12.0 Command: /Library/Frameworks/R.framework/Resources/bin/R CMD build --keep-empty-dirs --no-resave-data svaNUMT StartedAt: 2025-02-03 22:47:16 -0500 (Mon, 03 Feb 2025) EndedAt: 2025-02-03 22:50:07 -0500 (Mon, 03 Feb 2025) EllapsedTime: 171.5 seconds RetCode: 0 Status: OK PackageFile: svaNUMT_1.12.0.tar.gz PackageFileSize: 818.1 KiB