Package: svaNUMT Version: 1.12.0 Command: /Library/Frameworks/R.framework/Resources/bin/R CMD check --install=check:svaNUMT.install-out.txt --library=/Library/Frameworks/R.framework/Resources/library --no-vignettes --timings svaNUMT_1.12.0.tar.gz StartedAt: 2025-02-04 11:02:16 -0500 (Tue, 04 Feb 2025) EndedAt: 2025-02-04 11:12:58 -0500 (Tue, 04 Feb 2025) EllapsedTime: 642.7 seconds RetCode: 0 Status: OK CheckDir: svaNUMT.Rcheck Warnings: 0