Package: svaNUMT Version: 1.12.0 Command: chmod a+r svaNUMT -R && F:\biocbuild\bbs-3.20-bioc\R\bin\R.exe CMD build --keep-empty-dirs --no-resave-data svaNUMT StartedAt: 2025-02-10 22:24:40 -0500 (Mon, 10 Feb 2025) EndedAt: 2025-02-10 22:26:14 -0500 (Mon, 10 Feb 2025) EllapsedTime: 94.2 seconds RetCode: 0 Status: OK PackageFile: svaNUMT_1.12.0.tar.gz PackageFileSize: 700.6 KiB