Package: svaNUMT Version: 1.12.0 Command: F:\biocbuild\bbs-3.20-bioc\R\bin\R.exe CMD INSTALL svaNUMT StartedAt: 2025-02-03 16:59:34 -0500 (Mon, 03 Feb 2025) EndedAt: 2025-02-03 17:00:24 -0500 (Mon, 03 Feb 2025) EllapsedTime: 49.4 seconds RetCode: 0 Status: OK