Package: svaNUMT Version: 1.12.0 Command: /home/biocbuild/R/R/bin/R CMD INSTALL svaNUMT StartedAt: 2025-02-03 20:44:35 -0000 (Mon, 03 Feb 2025) EndedAt: 2025-02-03 20:45:23 -0000 (Mon, 03 Feb 2025) EllapsedTime: 48.5 seconds RetCode: 0 Status: OK