Package: swfdr Version: 1.32.0 Command: /Library/Frameworks/R.framework/Resources/bin/R CMD build --keep-empty-dirs --no-resave-data swfdr StartedAt: 2025-02-11 09:23:00 -0500 (Tue, 11 Feb 2025) EndedAt: 2025-02-11 09:24:06 -0500 (Tue, 11 Feb 2025) EllapsedTime: 66.4 seconds RetCode: 0 Status: OK PackageFile: swfdr_1.32.0.tar.gz PackageFileSize: 1.203 MiB