Package: swfdr Version: 1.32.0 Command: /Library/Frameworks/R.framework/Resources/bin/R CMD INSTALL swfdr StartedAt: 2025-02-10 15:05:58 -0500 (Mon, 10 Feb 2025) EndedAt: 2025-02-10 15:06:24 -0500 (Mon, 10 Feb 2025) EllapsedTime: 25.4 seconds RetCode: 0 Status: OK