Package: swfdr Version: 1.32.0 Command: /home/biocbuild/bbs-3.20-bioc/R/bin/R CMD build --keep-empty-dirs --no-resave-data --md5 swfdr StartedAt: 2025-02-03 19:34:26 -0500 (Mon, 03 Feb 2025) EndedAt: 2025-02-03 19:35:12 -0500 (Mon, 03 Feb 2025) EllapsedTime: 46.0 seconds RetCode: 0 Status: OK PackageFile: swfdr_1.32.0.tar.gz PackageFileSize: 1.204 MiB